BEGIN:VCALENDAR
VERSION:2.0
PRODID:-//jEvents 2.0 for Joomla//EN
CALSCALE:GREGORIAN
METHOD:PUBLISH
BEGIN:VTIMEZONE
TZID:Europe/Zurich
BEGIN:STANDARD
DTSTART:20250109T190000
RDATE:20250330T030000
TZOFFSETFROM:+0200
TZOFFSETTO:+0100
TZNAME:Europe/Zurich CET
END:STANDARD
BEGIN:STANDARD
DTSTART:20251026T020000
RDATE:20260329T030000
TZOFFSETFROM:+0200
TZOFFSETTO:+0100
TZNAME:Europe/Zurich CET
END:STANDARD
BEGIN:STANDARD
DTSTART:20261025T020000
RDATE:20270328T030000
TZOFFSETFROM:+0200
TZOFFSETTO:+0100
TZNAME:Europe/Zurich CET
END:STANDARD
BEGIN:STANDARD
DTSTART:20271031T020000
RDATE:20280326T030000
TZOFFSETFROM:+0200
TZOFFSETTO:+0100
TZNAME:Europe/Zurich CET
END:STANDARD
BEGIN:DAYLIGHT
DTSTART:20250330T030000
RDATE:20251026T020000
TZOFFSETFROM:+0100
TZOFFSETTO:+0200
TZNAME:Europe/Zurich CEST
END:DAYLIGHT
BEGIN:DAYLIGHT
DTSTART:20260329T030000
RDATE:20261025T020000
TZOFFSETFROM:+0100
TZOFFSETTO:+0200
TZNAME:Europe/Zurich CEST
END:DAYLIGHT
BEGIN:DAYLIGHT
DTSTART:20270328T030000
RDATE:20271031T020000
TZOFFSETFROM:+0100
TZOFFSETTO:+0200
TZNAME:Europe/Zurich CEST
END:DAYLIGHT
END:VTIMEZONE
BEGIN:VEVENT
UID:c04c5bc6e43053d1fce4b54b064a8627
CATEGORIES:Clubkalender
CREATED:20251118T191805
SUMMARY:Neujahrsessen
LOCATION:Hof Bollingen
DESCRIPTION:<p class="MsoNormal"><span style="mso-fareast-font-family: 'Times New Roman
 ';">Liebe Clubmitglieder</span></p><p class="MsoNormal"><span style="mso-fa
 reast-font-family: 'Times New Roman';"> </span></p><p class="MsoNormal"><sp
 an style="mso-fareast-font-family: 'Times New Roman';">Für das Neujahrsesse
 n treffen wir uns am Samstag, 10. Januar, 19 Uhr im Hof in Oberbollingen.</
 span></p><p class="MsoNormal"><span style="mso-fareast-font-family: 'Times 
 New Roman';">Wie alle Jahr habt ihr die Wahl zwischen einen Käsefondue und 
 Fondue Chinoise.  </span></p><p class="MsoNormal"><span style="mso-fareast-
 font-family: 'Times New Roman';"> </span></p><p class="MsoNormal"><span sty
 le="mso-fareast-font-family: 'Times New Roman';">Ihr könnte Euch unter folg
 endem Nuudle <a href="https://nuudel.digitalcourage.de/E6MxpCnrlAdTuekG">ht
 tps://nuudel.digitalcourage.de/E6MxpCnrlAdTuekG</a> bis allerspätestens 4. 
 Jan an- bzw. abmelden. </span></p><p class="MsoNormal"><span style="mso-far
 east-font-family: 'Times New Roman';"> </span></p><p class="MsoNormal"><spa
 n style="mso-fareast-font-family: 'Times New Roman';">Herzliche Grüsse </sp
 an></p><p class="MsoNormal"><span style="mso-fareast-font-family: 'Times Ne
 w Roman';">Helene </span></p>
DTSTAMP:20260421T174203
DTSTART;TZID=Europe/Zurich:20260110T190000
DTEND;TZID=Europe/Zurich:20260110T220000
SEQUENCE:0
TRANSP:OPAQUE
END:VEVENT
END:VCALENDAR