BEGIN:VCALENDAR
VERSION:2.0
PRODID:-//jEvents 2.0 for Joomla//EN
CALSCALE:GREGORIAN
METHOD:PUBLISH
BEGIN:VTIMEZONE
TZID:Europe/Zurich
BEGIN:STANDARD
DTSTART:20241027T020000
RDATE:20250330T030000
TZOFFSETFROM:+0200
TZOFFSETTO:+0100
TZNAME:Europe/Zurich CET
END:STANDARD
BEGIN:STANDARD
DTSTART:20251026T020000
RDATE:20260329T030000
TZOFFSETFROM:+0200
TZOFFSETTO:+0100
TZNAME:Europe/Zurich CET
END:STANDARD
BEGIN:STANDARD
DTSTART:20261025T020000
RDATE:20270328T030000
TZOFFSETFROM:+0200
TZOFFSETTO:+0100
TZNAME:Europe/Zurich CET
END:STANDARD
BEGIN:STANDARD
DTSTART:20271031T020000
RDATE:20280326T030000
TZOFFSETFROM:+0200
TZOFFSETTO:+0100
TZNAME:Europe/Zurich CET
END:STANDARD
BEGIN:DAYLIGHT
DTSTART:20240509T091600
RDATE:20241027T020000
TZOFFSETFROM:+0100
TZOFFSETTO:+0200
TZNAME:Europe/Zurich CEST
END:DAYLIGHT
BEGIN:DAYLIGHT
DTSTART:20250330T030000
RDATE:20251026T020000
TZOFFSETFROM:+0100
TZOFFSETTO:+0200
TZNAME:Europe/Zurich CEST
END:DAYLIGHT
BEGIN:DAYLIGHT
DTSTART:20260329T030000
RDATE:20261025T020000
TZOFFSETFROM:+0100
TZOFFSETTO:+0200
TZNAME:Europe/Zurich CEST
END:DAYLIGHT
BEGIN:DAYLIGHT
DTSTART:20270328T030000
RDATE:20271031T020000
TZOFFSETFROM:+0100
TZOFFSETTO:+0200
TZNAME:Europe/Zurich CEST
END:DAYLIGHT
END:VTIMEZONE
BEGIN:VEVENT
UID:ff6e80a8cb89f3835cc6832bd84339f1
CATEGORIES:Clubkalender
CREATED:20241126T201121
SUMMARY:Maibummel
LOCATION:Seeweg Bäch bis Wädenswil
DESCRIPTION:Infos zum Maibummel 2025\nTreffpunkt: Samstag, 10. Mai, 9:16h, Bahnhof Bäch
 \nWir laufen dann, «bewaffnet» mit Fotoapparat, den Seeweg nach Wädenswil, 
 reine Laufzeit ca. 80 Minuten.\nWir laufen gemütlich, so dass unterwegs gen
 ügend Zeit ist die Flora und Fauna am See zu beobachten, bzw. zu fotografie
 ren.\nIn Wädenswil kehren wir zum Zmittag ein (so ca 12:30h) im Restaurant 
 Engel, bzw. bei schönem Wetter am Seeplatz des Restaurant Engel.\nRückreise
  nach Rapperswil z.B. mit dem Kursschiff, das jede Stunde fährt.\nBitte im 
 Nuudel bis zum 5. Mai anmelden: https://nuudel.digitalcourage.de/p1XqWOoPn7
 xetwr6\n
X-ALT-DESC;FMTTYPE=text/html:<p>Infos zum Maibummel 2025</p><p>Treffpunkt: Samstag, 10. Mai, 9:16h, Bahn
 hof Bäch</p><p>Wir laufen dann, «bewaffnet» mit Fotoapparat, den Seeweg nac
 h Wädenswil, reine Laufzeit ca. 80 Minuten.</p><p>Wir laufen gemütlich, so 
 dass unterwegs genügend Zeit ist die Flora und Fauna am See zu beobachten, 
 bzw. zu fotografieren.</p><p>In Wädenswil kehren wir zum Zmittag ein (so ca
  12:30h) im Restaurant Engel, bzw. bei schönem Wetter am Seeplatz des Resta
 urant Engel.<br />Rückreise nach Rapperswil z.B. mit dem Kursschiff, das je
 de Stunde fährt.</p><p class="MsoPlainText">Bitte im Nuudel bis zum 5. Mai 
 anmelden: <a href="https://nuudel.digitalcourage.de/p1XqWOoPn7xetwr6">https
 ://nuudel.digitalcourage.de/p1XqWOoPn7xetwr6</a></p>
DTSTAMP:20260419T131404
DTSTART;TZID=Europe/Zurich:20250510T091600
DTEND;TZID=Europe/Zurich:20250510T140000
SEQUENCE:0
TRANSP:OPAQUE
END:VEVENT
END:VCALENDAR