BEGIN:VCALENDAR
VERSION:2.0
PRODID:-//jEvents 2.0 for Joomla//EN
CALSCALE:GREGORIAN
METHOD:PUBLISH
BEGIN:VTIMEZONE
TZID:Europe/Zurich
BEGIN:STANDARD
DTSTART:20211031T020000
RDATE:20220327T030000
TZOFFSETFROM:+0200
TZOFFSETTO:+0100
TZNAME:Europe/Zurich CET
END:STANDARD
BEGIN:STANDARD
DTSTART:20221030T020000
RDATE:20230326T030000
TZOFFSETFROM:+0200
TZOFFSETTO:+0100
TZNAME:Europe/Zurich CET
END:STANDARD
BEGIN:STANDARD
DTSTART:20231029T020000
RDATE:20240331T030000
TZOFFSETFROM:+0200
TZOFFSETTO:+0100
TZNAME:Europe/Zurich CET
END:STANDARD
BEGIN:STANDARD
DTSTART:20241027T020000
RDATE:20250330T030000
TZOFFSETFROM:+0200
TZOFFSETTO:+0100
TZNAME:Europe/Zurich CET
END:STANDARD
BEGIN:STANDARD
DTSTART:20251026T020000
RDATE:20260329T030000
TZOFFSETFROM:+0200
TZOFFSETTO:+0100
TZNAME:Europe/Zurich CET
END:STANDARD
BEGIN:STANDARD
DTSTART:20261025T020000
RDATE:20270328T030000
TZOFFSETFROM:+0200
TZOFFSETTO:+0100
TZNAME:Europe/Zurich CET
END:STANDARD
BEGIN:STANDARD
DTSTART:20271031T020000
RDATE:20280326T030000
TZOFFSETFROM:+0200
TZOFFSETTO:+0100
TZNAME:Europe/Zurich CET
END:STANDARD
BEGIN:DAYLIGHT
DTSTART:20211021T090000
RDATE:20211031T020000
TZOFFSETFROM:+0100
TZOFFSETTO:+0200
TZNAME:Europe/Zurich CEST
END:DAYLIGHT
BEGIN:DAYLIGHT
DTSTART:20220327T030000
RDATE:20221030T020000
TZOFFSETFROM:+0100
TZOFFSETTO:+0200
TZNAME:Europe/Zurich CEST
END:DAYLIGHT
BEGIN:DAYLIGHT
DTSTART:20230326T030000
RDATE:20231029T020000
TZOFFSETFROM:+0100
TZOFFSETTO:+0200
TZNAME:Europe/Zurich CEST
END:DAYLIGHT
BEGIN:DAYLIGHT
DTSTART:20240331T030000
RDATE:20241027T020000
TZOFFSETFROM:+0100
TZOFFSETTO:+0200
TZNAME:Europe/Zurich CEST
END:DAYLIGHT
BEGIN:DAYLIGHT
DTSTART:20250330T030000
RDATE:20251026T020000
TZOFFSETFROM:+0100
TZOFFSETTO:+0200
TZNAME:Europe/Zurich CEST
END:DAYLIGHT
BEGIN:DAYLIGHT
DTSTART:20260329T030000
RDATE:20261025T020000
TZOFFSETFROM:+0100
TZOFFSETTO:+0200
TZNAME:Europe/Zurich CEST
END:DAYLIGHT
BEGIN:DAYLIGHT
DTSTART:20270328T030000
RDATE:20271031T020000
TZOFFSETFROM:+0100
TZOFFSETTO:+0200
TZNAME:Europe/Zurich CEST
END:DAYLIGHT
END:VTIMEZONE
BEGIN:VEVENT
UID:edceed6cc862d2a9552529a57cfb5009
CATEGORIES:Clubexterne Fotoveranstaltungen
CREATED:20220901T083812
SUMMARY:Digitalevent - Treffpunkt der Fotografie
LOCATION:Trafo Halle\, Brown Boveri Platz 1\, CH-5400 Baden
DESCRIPTION:Dieses Jahr gibt es ihn wieder, den Digitalevent in Baden. Zwar steht das P
 rogramm noch nicht definitiv fest, hingegen das Datum: Es ist Samstag, der 
 22. Oktober 2022. Nach dem heutigen Planungsstand wird «One Day of Photogra
 phy» wieder ein besonderes Highlight im diesjährigen Veranstaltungskalender
  – ein Treffpunkt für alle, die mehr über Fotografie wissen wollen.\n
X-ALT-DESC;FMTTYPE=text/html:<p>Dieses Jahr gibt es ihn wieder, den Digitalevent in Baden. Zwar steht da
 s Programm noch nicht definitiv fest, hingegen das Datum: Es ist Samstag, d
 er 22. Oktober 2022. Nach dem heutigen Planungsstand wird «One Day of Photo
 graphy» wieder ein besonderes Highlight im diesjährigen Veranstaltungskalen
 der – ein Treffpunkt für alle, die mehr über Fotografie wissen wollen.</p>
X-EXTRAINFO:https://www.digitalevent.ch/
DTSTAMP:20260421T151950
DTSTART;TZID=Europe/Zurich:20221022T090000
DTEND;TZID=Europe/Zurich:20221022T180000
SEQUENCE:0
TRANSP:OPAQUE
END:VEVENT
END:VCALENDAR